BEGIN:VCALENDAR
VERSION:2.0
PRODID:-//Freiwillige Feuerwehr Kissenbrück - ECPv6.15.20//NONSGML v1.0//EN
CALSCALE:GREGORIAN
METHOD:PUBLISH
X-ORIGINAL-URL:https://www.fw-kissenbrueck.de
X-WR-CALDESC:Veranstaltungen für Freiwillige Feuerwehr Kissenbrück
REFRESH-INTERVAL;VALUE=DURATION:PT1H
X-Robots-Tag:noindex
X-PUBLISHED-TTL:PT1H
BEGIN:VTIMEZONE
TZID:Europe/Berlin
BEGIN:DAYLIGHT
TZOFFSETFROM:+0100
TZOFFSETTO:+0200
TZNAME:CEST
DTSTART:20240331T010000
END:DAYLIGHT
BEGIN:STANDARD
TZOFFSETFROM:+0200
TZOFFSETTO:+0100
TZNAME:CET
DTSTART:20241027T010000
END:STANDARD
BEGIN:DAYLIGHT
TZOFFSETFROM:+0100
TZOFFSETTO:+0200
TZNAME:CEST
DTSTART:20250330T010000
END:DAYLIGHT
BEGIN:STANDARD
TZOFFSETFROM:+0200
TZOFFSETTO:+0100
TZNAME:CET
DTSTART:20251026T010000
END:STANDARD
BEGIN:DAYLIGHT
TZOFFSETFROM:+0100
TZOFFSETTO:+0200
TZNAME:CEST
DTSTART:20260329T010000
END:DAYLIGHT
BEGIN:STANDARD
TZOFFSETFROM:+0200
TZOFFSETTO:+0100
TZNAME:CET
DTSTART:20261025T010000
END:STANDARD
END:VTIMEZONE
BEGIN:VEVENT
DTSTART;TZID=Europe/Berlin:20251002T170000
DTEND;TZID=Europe/Berlin:20251002T190000
DTSTAMP:20260420T211002
CREATED:20250819T075701Z
LAST-MODIFIED:20250819T075701Z
UID:3435-1759424400-1759431600@www.fw-kissenbrueck.de
SUMMARY:Dienst Jugendfeuerwehr
DESCRIPTION:
URL:https://www.fw-kissenbrueck.de/event/dienst-jugendfeuerwehr-119/
CATEGORIES:Jugendfeuerwehr
END:VEVENT
BEGIN:VEVENT
DTSTART;TZID=Europe/Berlin:20251002T190000
DTEND;TZID=Europe/Berlin:20251002T210000
DTSTAMP:20260420T211002
CREATED:20250819T081041Z
LAST-MODIFIED:20250819T081041Z
UID:3461-1759431600-1759438800@www.fw-kissenbrueck.de
SUMMARY:Ausbildungsdienst
DESCRIPTION:
URL:https://www.fw-kissenbrueck.de/event/ausbildungsdienst-111/
CATEGORIES:Ausbildungsdienst,Einsatzabteilung
END:VEVENT
END:VCALENDAR