BEGIN:VCALENDAR
VERSION:2.0
PRODID:-//Freiwillige Feuerwehr Kissenbrück - ECPv6.15.20//NONSGML v1.0//EN
CALSCALE:GREGORIAN
METHOD:PUBLISH
X-WR-CALNAME:Freiwillige Feuerwehr Kissenbrück
X-ORIGINAL-URL:https://www.fw-kissenbrueck.de
X-WR-CALDESC:Veranstaltungen für Freiwillige Feuerwehr Kissenbrück
REFRESH-INTERVAL;VALUE=DURATION:PT1H
X-Robots-Tag:noindex
X-PUBLISHED-TTL:PT1H
BEGIN:VTIMEZONE
TZID:Europe/Berlin
BEGIN:DAYLIGHT
TZOFFSETFROM:+0100
TZOFFSETTO:+0200
TZNAME:CEST
DTSTART:20250330T010000
END:DAYLIGHT
BEGIN:STANDARD
TZOFFSETFROM:+0200
TZOFFSETTO:+0100
TZNAME:CET
DTSTART:20251026T010000
END:STANDARD
BEGIN:DAYLIGHT
TZOFFSETFROM:+0100
TZOFFSETTO:+0200
TZNAME:CEST
DTSTART:20260329T010000
END:DAYLIGHT
BEGIN:STANDARD
TZOFFSETFROM:+0200
TZOFFSETTO:+0100
TZNAME:CET
DTSTART:20261025T010000
END:STANDARD
BEGIN:DAYLIGHT
TZOFFSETFROM:+0100
TZOFFSETTO:+0200
TZNAME:CEST
DTSTART:20270328T010000
END:DAYLIGHT
BEGIN:STANDARD
TZOFFSETFROM:+0200
TZOFFSETTO:+0100
TZNAME:CET
DTSTART:20271031T010000
END:STANDARD
END:VTIMEZONE
BEGIN:VEVENT
DTSTART;TZID=Europe/Berlin:20260421T170000
DTEND;TZID=Europe/Berlin:20260421T190000
DTSTAMP:20260420T133041
CREATED:20260116T131341Z
LAST-MODIFIED:20260116T131341Z
UID:3729-1776790800-1776798000@www.fw-kissenbrueck.de
SUMMARY:Dienst Jugendfeuerwehr
DESCRIPTION:
URL:https://www.fw-kissenbrueck.de/event/dienst-jugendfeuerwehr-132/
CATEGORIES:Jugendfeuerwehr
END:VEVENT
BEGIN:VEVENT
DTSTART;TZID=Europe/Berlin:20260422T170000
DTEND;TZID=Europe/Berlin:20260422T180000
DTSTAMP:20260420T133041
CREATED:20260116T130839Z
LAST-MODIFIED:20260116T130839Z
UID:3717-1776877200-1776880800@www.fw-kissenbrueck.de
SUMMARY:Dienst Kinderfeuerwehr
DESCRIPTION:
URL:https://www.fw-kissenbrueck.de/event/dienst-kinderfeuerwehr-109/
CATEGORIES:Kinderfeuerwehr
END:VEVENT
BEGIN:VEVENT
DTSTART;TZID=Europe/Berlin:20260423T170000
DTEND;TZID=Europe/Berlin:20260423T190000
DTSTAMP:20260420T133041
CREATED:20260116T131426Z
LAST-MODIFIED:20260116T131426Z
UID:3731-1776963600-1776970800@www.fw-kissenbrueck.de
SUMMARY:Dienst Jugendfeuerwehr
DESCRIPTION:
URL:https://www.fw-kissenbrueck.de/event/dienst-jugendfeuerwehr-133/
CATEGORIES:Jugendfeuerwehr
END:VEVENT
BEGIN:VEVENT
DTSTART;VALUE=DATE:20260425
DTEND;VALUE=DATE:20260426
DTSTAMP:20260420T133041
CREATED:20260315T095410Z
LAST-MODIFIED:20260315T095410Z
UID:3886-1777075200-1777161599@www.fw-kissenbrueck.de
SUMMARY:Samtgemeinde-Leistungsfahrt
DESCRIPTION:
URL:https://www.fw-kissenbrueck.de/event/samtgemeinde-leistungsfahrt/
CATEGORIES:Einsatzabteilung
END:VEVENT
BEGIN:VEVENT
DTSTART;TZID=Europe/Berlin:20260428T170000
DTEND;TZID=Europe/Berlin:20260428T190000
DTSTAMP:20260420T133041
CREATED:20260116T131501Z
LAST-MODIFIED:20260116T131501Z
UID:3733-1777395600-1777402800@www.fw-kissenbrueck.de
SUMMARY:Dienst Jugendfeuerwehr
DESCRIPTION:
URL:https://www.fw-kissenbrueck.de/event/dienst-jugendfeuerwehr-134/
CATEGORIES:Jugendfeuerwehr
END:VEVENT
BEGIN:VEVENT
DTSTART;TZID=Europe/Berlin:20260430T170000
DTEND;TZID=Europe/Berlin:20260430T190000
DTSTAMP:20260420T133041
CREATED:20260116T131530Z
LAST-MODIFIED:20260116T131530Z
UID:3735-1777568400-1777575600@www.fw-kissenbrueck.de
SUMMARY:Dienst Jugendfeuerwehr
DESCRIPTION:
URL:https://www.fw-kissenbrueck.de/event/dienst-jugendfeuerwehr-135/
CATEGORIES:Jugendfeuerwehr
END:VEVENT
BEGIN:VEVENT
DTSTART;TZID=Europe/Berlin:20260505T170000
DTEND;TZID=Europe/Berlin:20260505T190000
DTSTAMP:20260420T133041
CREATED:20260315T093817Z
LAST-MODIFIED:20260315T093817Z
UID:3858-1778000400-1778007600@www.fw-kissenbrueck.de
SUMMARY:Dienst Jugendfeuerwehr
DESCRIPTION:
URL:https://www.fw-kissenbrueck.de/event/dienst-jugendfeuerwehr-136/
CATEGORIES:Jugendfeuerwehr
END:VEVENT
BEGIN:VEVENT
DTSTART;TZID=Europe/Berlin:20260506T170000
DTEND;TZID=Europe/Berlin:20260506T180000
DTSTAMP:20260420T133041
CREATED:20260315T094937Z
LAST-MODIFIED:20260315T094937Z
UID:3876-1778086800-1778090400@www.fw-kissenbrueck.de
SUMMARY:Dienst Kinderfeuerwehr
DESCRIPTION:
URL:https://www.fw-kissenbrueck.de/event/dienst-kinderfeuerwehr-110/
CATEGORIES:Kinderfeuerwehr
END:VEVENT
BEGIN:VEVENT
DTSTART;TZID=Europe/Berlin:20260507T170000
DTEND;TZID=Europe/Berlin:20260507T190000
DTSTAMP:20260420T133041
CREATED:20260315T093844Z
LAST-MODIFIED:20260315T093844Z
UID:3860-1778173200-1778180400@www.fw-kissenbrueck.de
SUMMARY:Dienst Jugendfeuerwehr
DESCRIPTION:
URL:https://www.fw-kissenbrueck.de/event/dienst-jugendfeuerwehr-137/
CATEGORIES:Jugendfeuerwehr
END:VEVENT
BEGIN:VEVENT
DTSTART;TZID=Europe/Berlin:20260508T190000
DTEND;TZID=Europe/Berlin:20260508T210000
DTSTAMP:20260420T133041
CREATED:20260315T095518Z
LAST-MODIFIED:20260315T095518Z
UID:3888-1778266800-1778274000@www.fw-kissenbrueck.de
SUMMARY:Ausbildungsdienst
DESCRIPTION:
URL:https://www.fw-kissenbrueck.de/event/ausbildungsdienst-120/
CATEGORIES:Ausbildungsdienst,Einsatzabteilung
END:VEVENT
BEGIN:VEVENT
DTSTART;VALUE=DATE:20260509
DTEND;VALUE=DATE:20260510
DTSTAMP:20260420T133041
CREATED:20260315T094334Z
LAST-MODIFIED:20260315T094334Z
UID:3864-1778284800-1778371199@www.fw-kissenbrueck.de
SUMMARY:Jugendfeuerwehr Samtgemeindewettbewerb
DESCRIPTION:
URL:https://www.fw-kissenbrueck.de/event/jugendfeuerwehr-samtgemeindewettbewerb-4/
CATEGORIES:Jugendfeuerwehr,Öffentliche Veranstaltungen
END:VEVENT
BEGIN:VEVENT
DTSTART;TZID=Europe/Berlin:20260512T170000
DTEND;TZID=Europe/Berlin:20260512T190000
DTSTAMP:20260420T133041
CREATED:20260315T094024Z
LAST-MODIFIED:20260315T094024Z
UID:3862-1778605200-1778612400@www.fw-kissenbrueck.de
SUMMARY:Dienst Jugendfeuerwehr
DESCRIPTION:
URL:https://www.fw-kissenbrueck.de/event/dienst-jugendfeuerwehr-138/
CATEGORIES:Jugendfeuerwehr
END:VEVENT
BEGIN:VEVENT
DTSTART;VALUE=DATE:20260514
DTEND;VALUE=DATE:20260515
DTSTAMP:20260420T133041
CREATED:20260315T095602Z
LAST-MODIFIED:20260315T095602Z
UID:3890-1778716800-1778803199@www.fw-kissenbrueck.de
SUMMARY:Ausflug
DESCRIPTION:
URL:https://www.fw-kissenbrueck.de/event/ausflug/
CATEGORIES:Altersabteilung,Einsatzabteilung,Förderverein
END:VEVENT
BEGIN:VEVENT
DTSTART;TZID=Europe/Berlin:20260520T170000
DTEND;TZID=Europe/Berlin:20260520T180000
DTSTAMP:20260420T133041
CREATED:20260315T095020Z
LAST-MODIFIED:20260315T095020Z
UID:3878-1779296400-1779300000@www.fw-kissenbrueck.de
SUMMARY:Dienst Kinderfeuerwehr
DESCRIPTION:
URL:https://www.fw-kissenbrueck.de/event/dienst-kinderfeuerwehr-111/
CATEGORIES:Kinderfeuerwehr
END:VEVENT
BEGIN:VEVENT
DTSTART;TZID=Europe/Berlin:20260520T190000
DTEND;TZID=Europe/Berlin:20260520T210000
DTSTAMP:20260420T133041
CREATED:20260315T100419Z
LAST-MODIFIED:20260315T100419Z
UID:3908-1779303600-1779310800@www.fw-kissenbrueck.de
SUMMARY:Treffen Altersabteilung
DESCRIPTION:
URL:https://www.fw-kissenbrueck.de/event/treffen-altersabteilung-40/
CATEGORIES:Altersabteilung
END:VEVENT
BEGIN:VEVENT
DTSTART;TZID=Europe/Berlin:20260520T190000
DTEND;TZID=Europe/Berlin:20260520T210000
DTSTAMP:20260420T133041
CREATED:20260315T100523Z
LAST-MODIFIED:20260315T100523Z
UID:3910-1779303600-1779310800@www.fw-kissenbrueck.de
SUMMARY:Treffen Altersabteilung
DESCRIPTION:
URL:https://www.fw-kissenbrueck.de/event/treffen-altersabteilung-41/
CATEGORIES:Altersabteilung
END:VEVENT
BEGIN:VEVENT
DTSTART;TZID=Europe/Berlin:20260521T170000
DTEND;TZID=Europe/Berlin:20260521T190000
DTSTAMP:20260420T133041
CREATED:20260315T094438Z
LAST-MODIFIED:20260315T094438Z
UID:3866-1779382800-1779390000@www.fw-kissenbrueck.de
SUMMARY:Dienst Jugendfeuerwehr
DESCRIPTION:
URL:https://www.fw-kissenbrueck.de/event/dienst-jugendfeuerwehr-139/
CATEGORIES:Jugendfeuerwehr
END:VEVENT
BEGIN:VEVENT
DTSTART;TZID=Europe/Berlin:20260522T190000
DTEND;TZID=Europe/Berlin:20260522T210000
DTSTAMP:20260420T133041
CREATED:20260315T095650Z
LAST-MODIFIED:20260315T095650Z
UID:3892-1779476400-1779483600@www.fw-kissenbrueck.de
SUMMARY:Ausbildungsdienst
DESCRIPTION:
URL:https://www.fw-kissenbrueck.de/event/ausbildungsdienst-121/
CATEGORIES:Ausbildungsdienst,Einsatzabteilung
END:VEVENT
BEGIN:VEVENT
DTSTART;TZID=Europe/Berlin:20260528T170000
DTEND;TZID=Europe/Berlin:20260528T190000
DTSTAMP:20260420T133041
CREATED:20260315T094615Z
LAST-MODIFIED:20260315T094615Z
UID:3868-1779987600-1779994800@www.fw-kissenbrueck.de
SUMMARY:Dienst Jugendfeuerwehr
DESCRIPTION:
URL:https://www.fw-kissenbrueck.de/event/dienst-jugendfeuerwehr-140/
CATEGORIES:Jugendfeuerwehr
END:VEVENT
BEGIN:VEVENT
DTSTART;VALUE=DATE:20260530
DTEND;VALUE=DATE:20260531
DTSTAMP:20260420T133041
CREATED:20260315T094752Z
LAST-MODIFIED:20260315T094752Z
UID:3872-1780099200-1780185599@www.fw-kissenbrueck.de
SUMMARY:Jugendfeuerwehr Kreiswettbewerb
DESCRIPTION:
URL:https://www.fw-kissenbrueck.de/event/jugendfeuerwehr-kreiswettbewerb-4/
CATEGORIES:Jugendfeuerwehr,Öffentliche Veranstaltungen
END:VEVENT
BEGIN:VEVENT
DTSTART;TZID=Europe/Berlin:20260603T170000
DTEND;TZID=Europe/Berlin:20260603T180000
DTSTAMP:20260420T133041
CREATED:20260315T095056Z
LAST-MODIFIED:20260315T095056Z
UID:3880-1780506000-1780509600@www.fw-kissenbrueck.de
SUMMARY:Dienst Kinderfeuerwehr
DESCRIPTION:
URL:https://www.fw-kissenbrueck.de/event/dienst-kinderfeuerwehr-112/
CATEGORIES:Kinderfeuerwehr
END:VEVENT
BEGIN:VEVENT
DTSTART;TZID=Europe/Berlin:20260605T190000
DTEND;TZID=Europe/Berlin:20260605T210000
DTSTAMP:20260420T133041
CREATED:20260315T095755Z
LAST-MODIFIED:20260315T095755Z
UID:3894-1780686000-1780693200@www.fw-kissenbrueck.de
SUMMARY:Ausbildungsdienst
DESCRIPTION:
URL:https://www.fw-kissenbrueck.de/event/ausbildungsdienst-122/
CATEGORIES:Ausbildungsdienst,Einsatzabteilung
END:VEVENT
BEGIN:VEVENT
DTSTART;TZID=Europe/Berlin:20260611T170000
DTEND;TZID=Europe/Berlin:20260611T190000
DTSTAMP:20260420T133041
CREATED:20260315T094645Z
LAST-MODIFIED:20260315T094645Z
UID:3870-1781197200-1781204400@www.fw-kissenbrueck.de
SUMMARY:Dienst Jugendfeuerwehr
DESCRIPTION:
URL:https://www.fw-kissenbrueck.de/event/dienst-jugendfeuerwehr-141/
CATEGORIES:Jugendfeuerwehr
END:VEVENT
BEGIN:VEVENT
DTSTART;TZID=Europe/Berlin:20260617T170000
DTEND;TZID=Europe/Berlin:20260617T180000
DTSTAMP:20260420T133041
CREATED:20260315T095129Z
LAST-MODIFIED:20260315T095129Z
UID:3882-1781715600-1781719200@www.fw-kissenbrueck.de
SUMMARY:Dienst Kinderfeuerwehr
DESCRIPTION:
URL:https://www.fw-kissenbrueck.de/event/dienst-kinderfeuerwehr-113/
CATEGORIES:Kinderfeuerwehr
END:VEVENT
BEGIN:VEVENT
DTSTART;TZID=Europe/Berlin:20260617T190000
DTEND;TZID=Europe/Berlin:20260617T210000
DTSTAMP:20260420T133041
CREATED:20260315T100549Z
LAST-MODIFIED:20260315T100549Z
UID:3912-1781722800-1781730000@www.fw-kissenbrueck.de
SUMMARY:Treffen Altersabteilung
DESCRIPTION:
URL:https://www.fw-kissenbrueck.de/event/treffen-altersabteilung-42/
CATEGORIES:Altersabteilung
END:VEVENT
BEGIN:VEVENT
DTSTART;TZID=Europe/Berlin:20260619T190000
DTEND;TZID=Europe/Berlin:20260619T210000
DTSTAMP:20260420T133041
CREATED:20260315T095835Z
LAST-MODIFIED:20260315T095835Z
UID:3896-1781895600-1781902800@www.fw-kissenbrueck.de
SUMMARY:Ausbildungsdienst
DESCRIPTION:
URL:https://www.fw-kissenbrueck.de/event/ausbildungsdienst-123/
CATEGORIES:Ausbildungsdienst,Einsatzabteilung
END:VEVENT
BEGIN:VEVENT
DTSTART;VALUE=DATE:20260620
DTEND;VALUE=DATE:20260621
DTSTAMP:20260420T133041
CREATED:20260315T094833Z
LAST-MODIFIED:20260315T094833Z
UID:3874-1781913600-1781999999@www.fw-kissenbrueck.de
SUMMARY:Halbjahresabschluss Jugendfeuerwehr
DESCRIPTION:
URL:https://www.fw-kissenbrueck.de/event/halbjahresabschluss-jugendfeuerwehr-3/
CATEGORIES:Jugendfeuerwehr
END:VEVENT
BEGIN:VEVENT
DTSTART;VALUE=DATE:20260627
DTEND;VALUE=DATE:20260629
DTSTAMP:20260420T133041
CREATED:20260315T095216Z
LAST-MODIFIED:20260315T095216Z
UID:3884-1782518400-1782691199@www.fw-kissenbrueck.de
SUMMARY:Halbjahresabschluss Kinderfeuerwehr
DESCRIPTION:
URL:https://www.fw-kissenbrueck.de/event/halbjahresabschluss-kinderfeuerwehr-2/
CATEGORIES:Kinderfeuerwehr
END:VEVENT
BEGIN:VEVENT
DTSTART;TZID=Europe/Berlin:20260703T190000
DTEND;TZID=Europe/Berlin:20260703T210000
DTSTAMP:20260420T133041
CREATED:20260315T095907Z
LAST-MODIFIED:20260315T095907Z
UID:3898-1783105200-1783112400@www.fw-kissenbrueck.de
SUMMARY:Ausbildungsdienst
DESCRIPTION:
URL:https://www.fw-kissenbrueck.de/event/ausbildungsdienst-124/
CATEGORIES:Ausbildungsdienst,Einsatzabteilung
END:VEVENT
BEGIN:VEVENT
DTSTART;TZID=Europe/Berlin:20260717T190000
DTEND;TZID=Europe/Berlin:20260717T210000
DTSTAMP:20260420T133041
CREATED:20260315T100007Z
LAST-MODIFIED:20260315T100007Z
UID:3900-1784314800-1784322000@www.fw-kissenbrueck.de
SUMMARY:Ausbildungsdienst
DESCRIPTION:
URL:https://www.fw-kissenbrueck.de/event/ausbildungsdienst-125/
CATEGORIES:Ausbildungsdienst,Einsatzabteilung
END:VEVENT
END:VCALENDAR