BEGIN:VCALENDAR
VERSION:2.0
PRODID:-//Freiwillige Feuerwehr Kissenbrück - ECPv6.15.20//NONSGML v1.0//EN
CALSCALE:GREGORIAN
METHOD:PUBLISH
X-ORIGINAL-URL:https://www.fw-kissenbrueck.de
X-WR-CALDESC:Veranstaltungen für Freiwillige Feuerwehr Kissenbrück
REFRESH-INTERVAL;VALUE=DURATION:PT1H
X-Robots-Tag:noindex
X-PUBLISHED-TTL:PT1H
BEGIN:VTIMEZONE
TZID:Europe/Berlin
BEGIN:DAYLIGHT
TZOFFSETFROM:+0100
TZOFFSETTO:+0200
TZNAME:CEST
DTSTART:20240331T010000
END:DAYLIGHT
BEGIN:STANDARD
TZOFFSETFROM:+0200
TZOFFSETTO:+0100
TZNAME:CET
DTSTART:20241027T010000
END:STANDARD
BEGIN:DAYLIGHT
TZOFFSETFROM:+0100
TZOFFSETTO:+0200
TZNAME:CEST
DTSTART:20250330T010000
END:DAYLIGHT
BEGIN:STANDARD
TZOFFSETFROM:+0200
TZOFFSETTO:+0100
TZNAME:CET
DTSTART:20251026T010000
END:STANDARD
BEGIN:DAYLIGHT
TZOFFSETFROM:+0100
TZOFFSETTO:+0200
TZNAME:CEST
DTSTART:20260329T010000
END:DAYLIGHT
BEGIN:STANDARD
TZOFFSETFROM:+0200
TZOFFSETTO:+0100
TZNAME:CET
DTSTART:20261025T010000
END:STANDARD
END:VTIMEZONE
BEGIN:VEVENT
DTSTART;TZID=Europe/Berlin:20251105T170000
DTEND;TZID=Europe/Berlin:20251105T180000
DTSTAMP:20260420T183351
CREATED:20250819T080526Z
LAST-MODIFIED:20250819T080526Z
UID:3451-1762362000-1762365600@www.fw-kissenbrueck.de
SUMMARY:Dienst Kinderfeuerwehr
DESCRIPTION:
URL:https://www.fw-kissenbrueck.de/event/dienst-kinderfeuerwehr-101/
CATEGORIES:Kinderfeuerwehr
END:VEVENT
BEGIN:VEVENT
DTSTART;TZID=Europe/Berlin:20251107T190000
DTEND;TZID=Europe/Berlin:20251107T210000
DTSTAMP:20260420T183351
CREATED:20250819T092513Z
LAST-MODIFIED:20250819T092513Z
UID:3473-1762542000-1762549200@www.fw-kissenbrueck.de
SUMMARY:Ausbildungsdienst
DESCRIPTION:
URL:https://www.fw-kissenbrueck.de/event/ausbildungsdienst-113/
CATEGORIES:Ausbildungsdienst,Einsatzabteilung
END:VEVENT
BEGIN:VEVENT
DTSTART;TZID=Europe/Berlin:20251113T170000
DTEND;TZID=Europe/Berlin:20251113T183000
DTSTAMP:20260420T183351
CREATED:20250819T075903Z
LAST-MODIFIED:20250819T075903Z
UID:3439-1763053200-1763058600@www.fw-kissenbrueck.de
SUMMARY:Dienst Jugendfeuerwehr
DESCRIPTION:
URL:https://www.fw-kissenbrueck.de/event/dienst-jugendfeuerwehr-121/
CATEGORIES:Jugendfeuerwehr
END:VEVENT
BEGIN:VEVENT
DTSTART;TZID=Europe/Berlin:20251115T170000
DTEND;TZID=Europe/Berlin:20251115T200000
DTSTAMP:20260420T183351
CREATED:20250819T080647Z
LAST-MODIFIED:20250819T080647Z
UID:3453-1763226000-1763236800@www.fw-kissenbrueck.de
SUMMARY:Laternenumzug
DESCRIPTION:
URL:https://www.fw-kissenbrueck.de/event/laternenumzug-2/
CATEGORIES:Einsatzabteilung,Kinderfeuerwehr,Öffentliche Veranstaltungen
END:VEVENT
BEGIN:VEVENT
DTSTART;TZID=Europe/Berlin:20251119T170000
DTEND;TZID=Europe/Berlin:20251119T180000
DTSTAMP:20260420T183351
CREATED:20250819T080721Z
LAST-MODIFIED:20250819T080721Z
UID:3455-1763571600-1763575200@www.fw-kissenbrueck.de
SUMMARY:Dienst Kinderfeuerwehr
DESCRIPTION:
URL:https://www.fw-kissenbrueck.de/event/dienst-kinderfeuerwehr-102/
CATEGORIES:Kinderfeuerwehr
END:VEVENT
BEGIN:VEVENT
DTSTART;TZID=Europe/Berlin:20251119T190000
DTEND;TZID=Europe/Berlin:20251119T210000
DTSTAMP:20260420T183351
CREATED:20250819T092216Z
LAST-MODIFIED:20250819T092216Z
UID:3467-1763578800-1763586000@www.fw-kissenbrueck.de
SUMMARY:Treffen Altersabteilung
DESCRIPTION:
URL:https://www.fw-kissenbrueck.de/event/treffen-altersabteilung-35/
CATEGORIES:Altersabteilung
END:VEVENT
BEGIN:VEVENT
DTSTART;TZID=Europe/Berlin:20251121T190000
DTEND;TZID=Europe/Berlin:20251121T210000
DTSTAMP:20260420T183351
CREATED:20250819T092547Z
LAST-MODIFIED:20250819T092547Z
UID:3475-1763751600-1763758800@www.fw-kissenbrueck.de
SUMMARY:Ausbildungsdienst
DESCRIPTION:
URL:https://www.fw-kissenbrueck.de/event/ausbildungsdienst-114/
CATEGORIES:Ausbildungsdienst,Einsatzabteilung
END:VEVENT
BEGIN:VEVENT
DTSTART;TZID=Europe/Berlin:20251127T170000
DTEND;TZID=Europe/Berlin:20251127T183000
DTSTAMP:20260420T183351
CREATED:20250819T075941Z
LAST-MODIFIED:20250819T075941Z
UID:3441-1764262800-1764268200@www.fw-kissenbrueck.de
SUMMARY:Dienst Jugendfeuerwehr
DESCRIPTION:
URL:https://www.fw-kissenbrueck.de/event/dienst-jugendfeuerwehr-122/
CATEGORIES:Jugendfeuerwehr
END:VEVENT
BEGIN:VEVENT
DTSTART;TZID=Europe/Berlin:20251129T140000
DTEND;TZID=Europe/Berlin:20251129T190000
DTSTAMP:20260420T183351
CREATED:20250819T092658Z
LAST-MODIFIED:20251119T151600Z
UID:3477-1764424800-1764442800@www.fw-kissenbrueck.de
SUMMARY:Weihnachtsmarkt
DESCRIPTION:
URL:https://www.fw-kissenbrueck.de/event/weihnachtsmarkt/
LOCATION:Kirche
CATEGORIES:Altersabteilung,Einsatzabteilung,Förderverein,Öffentliche Veranstaltungen
END:VEVENT
END:VCALENDAR