BEGIN:VCALENDAR
VERSION:2.0
PRODID:-//Freiwillige Feuerwehr Kissenbrück - ECPv6.15.20//NONSGML v1.0//EN
CALSCALE:GREGORIAN
METHOD:PUBLISH
X-ORIGINAL-URL:https://www.fw-kissenbrueck.de
X-WR-CALDESC:Veranstaltungen für Freiwillige Feuerwehr Kissenbrück
REFRESH-INTERVAL;VALUE=DURATION:PT1H
X-Robots-Tag:noindex
X-PUBLISHED-TTL:PT1H
BEGIN:VTIMEZONE
TZID:Europe/Berlin
BEGIN:DAYLIGHT
TZOFFSETFROM:+0100
TZOFFSETTO:+0200
TZNAME:CEST
DTSTART:20250330T010000
END:DAYLIGHT
BEGIN:STANDARD
TZOFFSETFROM:+0200
TZOFFSETTO:+0100
TZNAME:CET
DTSTART:20251026T010000
END:STANDARD
BEGIN:DAYLIGHT
TZOFFSETFROM:+0100
TZOFFSETTO:+0200
TZNAME:CEST
DTSTART:20260329T010000
END:DAYLIGHT
BEGIN:STANDARD
TZOFFSETFROM:+0200
TZOFFSETTO:+0100
TZNAME:CET
DTSTART:20261025T010000
END:STANDARD
BEGIN:DAYLIGHT
TZOFFSETFROM:+0100
TZOFFSETTO:+0200
TZNAME:CEST
DTSTART:20270328T010000
END:DAYLIGHT
BEGIN:STANDARD
TZOFFSETFROM:+0200
TZOFFSETTO:+0100
TZNAME:CET
DTSTART:20271031T010000
END:STANDARD
END:VTIMEZONE
BEGIN:VEVENT
DTSTART;TZID=Europe/Berlin:20260305T170000
DTEND;TZID=Europe/Berlin:20260305T183000
DTSTAMP:20260420T133519
CREATED:20260116T130936Z
LAST-MODIFIED:20260116T130936Z
UID:3719-1772730000-1772735400@www.fw-kissenbrueck.de
SUMMARY:Dienst Jugendfeuerwehr
DESCRIPTION:
URL:https://www.fw-kissenbrueck.de/event/dienst-jugendfeuerwehr-127/
CATEGORIES:Jugendfeuerwehr
END:VEVENT
BEGIN:VEVENT
DTSTART;TZID=Europe/Berlin:20260306T190000
DTEND;TZID=Europe/Berlin:20260306T210000
DTSTAMP:20260420T133519
CREATED:20251222T095554Z
LAST-MODIFIED:20251222T095554Z
UID:3677-1772823600-1772830800@www.fw-kissenbrueck.de
SUMMARY:Ausbildungsdienst
DESCRIPTION:
URL:https://www.fw-kissenbrueck.de/event/ausbildungsdienst-118/
CATEGORIES:Ausbildungsdienst,Einsatzabteilung
END:VEVENT
BEGIN:VEVENT
DTSTART;TZID=Europe/Berlin:20260311T170000
DTEND;TZID=Europe/Berlin:20260311T180000
DTSTAMP:20260420T133519
CREATED:20260116T130648Z
LAST-MODIFIED:20260116T130648Z
UID:3713-1773248400-1773252000@www.fw-kissenbrueck.de
SUMMARY:Dienst Kinderfeuerwehr
DESCRIPTION:
URL:https://www.fw-kissenbrueck.de/event/dienst-kinderfeuerwehr-107/
CATEGORIES:Kinderfeuerwehr
END:VEVENT
BEGIN:VEVENT
DTSTART;TZID=Europe/Berlin:20260318T190000
DTEND;TZID=Europe/Berlin:20260318T210000
DTSTAMP:20260420T133519
CREATED:20260116T104713Z
LAST-MODIFIED:20260116T104713Z
UID:3705-1773860400-1773867600@www.fw-kissenbrueck.de
SUMMARY:Treffen Altersabteilung
DESCRIPTION:
URL:https://www.fw-kissenbrueck.de/event/treffen-altersabteilung-38/
CATEGORIES:Altersabteilung
END:VEVENT
BEGIN:VEVENT
DTSTART;TZID=Europe/Berlin:20260319T170000
DTEND;TZID=Europe/Berlin:20260319T183000
DTSTAMP:20260420T133519
CREATED:20260116T131019Z
LAST-MODIFIED:20260116T131019Z
UID:3721-1773939600-1773945000@www.fw-kissenbrueck.de
SUMMARY:Dienst Jugendfeuerwehr
DESCRIPTION:
URL:https://www.fw-kissenbrueck.de/event/dienst-jugendfeuerwehr-128/
CATEGORIES:Jugendfeuerwehr
END:VEVENT
BEGIN:VEVENT
DTSTART;TZID=Europe/Berlin:20260328T090000
DTEND;TZID=Europe/Berlin:20260328T160000
DTSTAMP:20260420T133519
CREATED:20260116T130546Z
LAST-MODIFIED:20260116T130546Z
UID:3711-1774688400-1774713600@www.fw-kissenbrueck.de
SUMMARY:Osterholzabfuhr
DESCRIPTION:
URL:https://www.fw-kissenbrueck.de/event/osterholzabfuhr-6/
CATEGORIES:Altersabteilung,Einsatzabteilung,Förderverein,Öffentliche Veranstaltungen
END:VEVENT
END:VCALENDAR